BEGIN:VCALENDAR
VERSION:2.0
PRODID:-//Not Too Shabby - ECPv6.15.18//NONSGML v1.0//EN
CALSCALE:GREGORIAN
METHOD:PUBLISH
X-WR-CALNAME:Not Too Shabby
X-ORIGINAL-URL:https://nottooshabbyband.com
X-WR-CALDESC:Events for Not Too Shabby
REFRESH-INTERVAL;VALUE=DURATION:PT1H
X-Robots-Tag:noindex
X-PUBLISHED-TTL:PT1H
BEGIN:VTIMEZONE
TZID:Asia/Karachi
BEGIN:STANDARD
TZOFFSETFROM:+0500
TZOFFSETTO:+0500
TZNAME:PKT
DTSTART:20230101T000000
END:STANDARD
END:VTIMEZONE
BEGIN:VEVENT
DTSTART;TZID=Asia/Karachi:20240322T173000
DTEND;TZID=Asia/Karachi:20240322T213000
DTSTAMP:20260423T041247
CREATED:20240214T011837Z
LAST-MODIFIED:20240216T203921Z
UID:1416-1711128600-1711143000@nottooshabbyband.com
SUMMARY:Rum River
DESCRIPTION:Not Too Shabby Performs Live
URL:https://nottooshabbyband.com/event/rum-river-gig-2/
LOCATION:Rum River Bar & Grill\, 7811 Bayview St.\, Port Richey\, 34688\, United States
CATEGORIES:Gigs
END:VEVENT
END:VCALENDAR